Workbook

Sheet Explanation

Sheet Scenario Summary
B2: Scenario Summary
D3: Current Values: | E3: "currently" (kinda real q1) | F3: good_until_exam | G3: do_good
E4: Created by Gurara, Joshua on 10/1/2026 Modified by Gurara, Joshua on 10/1/2026 | F4: Created by Gurara, Joshua on 10/1/2026 Modified by Gurara, Joshua on 10/1/2026 | G4: Created by Gurara, Joshua on 10/1/2026
B5: Changing Cells:
C6: Q1 | D6: 88 | E6: 69.885714 | F6: 88 | G6: 88
C7: Q2 | D7: 90 | E7: 92.2 | F7: 90 | G7: 90
C8: Q3 | D8: 91 | E8: 81.28 | F8: 91 | G8: 91
C9: Q4 | D9: 90 | E9: 93 | F9: 90 | G9: 90
C10: Final Exam | D10: 100 | E10: 99 | F10: 20 | G10: 100
B11: Result Cells:
C12: Final - Numeric | D12: 91.8 | E12: 87.073143 | F12: 75.8 | G12: 91.8
C13: Final - QP | D13: 3.9 | E13: 3.4 | F13: 3.1 | G13: 3.9
C14: Final Grade | D14: A | E14: B+ | F14: B | G14: A
B15: Notes: Current Values column represents values of changing cells at
B16: time Scenario Summary Report was created. Changing cells for each
B17: scenario are highlighted in gray.

Sheet Summary
B2: Final Grades | C2: Grade | D2: Letter | E2: Quality Points | G2: Weights
B3: Q1 | C3: 69.885714 | D3: =VLOOKUP(C3,grade_table!B$3:D$10,3,1) -> C | E3: =VLOOKUP(D3,qp_table!B$3:C$10,2,0) -> 2 | G3: Each Quarter | H3: 0.2
B4: Q2 | C4: 92.2 | D4: =VLOOKUP(C4,grade_table!B$3:D$10,3,1) -> A | E4: =VLOOKUP(D4,qp_table!B$3:C$10,2,0) -> 4 | G4: Exam | H4: 0.2
B5: Q3 | C5: 81.28 | D5: =VLOOKUP(C5,grade_table!B$3:D$10,3,1) -> B | E5: =VLOOKUP(D5,qp_table!B$3:C$10,2,0) -> 3
B6: Q4 | C6: 93 | D6: =VLOOKUP(C6,grade_table!B$3:D$10,3,1) -> A | E6: =VLOOKUP(D6,qp_table!B$3:C$10,2,0) -> 4
B7: Final Exam | C7: 99 | D7: =VLOOKUP(C7,grade_table!B$3:D$10,3,1) -> A | E7: =VLOOKUP(D7,qp_table!B$3:C$10,2,0) -> 4
B8: Year Final - Numeric | C8: =C3*H3 +C4*H3 +C5*H3 + C6*H3 + C7*H4 -> 87.073143 | D8: =VLOOKUP(C8,grade_table!B$3:D$10,3,1) -> B+ | E8: =VLOOKUP(D8,qp_table!B$3:C$10,2,FALSE) -> 3.5
B9: Year Final - QP | C9: =E3*H3 +E4*H3 +E5*H3 + E6*H3 + E7*H4 -> 3.4 | D9: =VLOOKUP(C9,qp_grade_table!B$3:C$10,2,1) -> B+ | E9: =VLOOKUP(D9,qp_table!B$3:C$10,2,FALSE) -> 3.5
B10: Official Final Grade | C10: =IF((E8>E9),D8,D9) -> B+

Sheet Q1
B2: Formative Grades | G2: Summative Grades | L2: Calculated Totals
B3: Assignment Name | C3: Grade you got | D3: Points | E3: Points Earned | G3: Assignment Name | H3: Grade you got | I3: Points | J3: Points Earned | L3: Formative | M3: =SUM(E:E)/SUM(D:D) -> 0.81285714
B4: Research paper driving question | C4: 80 | D4: 1 | E4: =C4/100*D4 -> 0.8 | G4: Summer Assignment | H4: 65 | I4: 100 | J4: =H4/100*I4 -> 65 | L4: Summative | M4: =SUM(J4:J7)/SUM(I4:I7) -> 0.65
B5: ch1 socratic seminar | C5: 80 | D5: 1 | E5: =C5/100*D5 -> 0.8 | G5: Final draft
B6: Ch 1&2 reading quiz | C6: 89 | D6: 1 | E6: =C6/100*D6 -> 0.89 | G6: Test | L6: Total | M6: =0.7*M4+0.3*M3 -> 0.69885714
B7: research paper evidence catcher | C7: 80 | D7: 1 | E7: =C7/100*D7 -> 0.8
B8: research paper outline | C8: 80 | D8: 1 | E8: =C8/100*D8 -> 0.8
B9: ch3&4 reading quiz | C9: 80 | D9: 1 | E9: =C9/100*D9 -> 0.8
B10: primary source packet | E10: =C10/100*D10 -> 0
B11: rough draft | C11: 80 | D11: 1 | E11: =C11/100*D11 -> 0.8
B12: ch5&6 reading quiz | E12: =C12/100*D12 -> 0
C13: none of the formatives are graded yet so these are just placeholders
A14: and then some more that I forgot

Sheet Q2
B2: Formative Grades | G2: Summative Grades | L2: Calculated Totals
B3: Assignment Name | C3: Grade you got | D3: Points | E3: Points Earned | G3: Assignment Name | H3: Grade you got | I3: Points | J3: Points Earned | L3: Formative | M3: =SUM(E:E)/SUM(D:D) -> 0.74
B4: quiz | C4: 100 | D4: 1 | E4: =C4/100*D4 -> 1 | G4: Final Draft | H4: 100 | I4: 100 | J4: =H4/100*I4 -> 100 | L4: Summative | M4: =SUM(J4:J7)/SUM(I4:I7) -> 1
B5: something | C5: 48 | D5: 1 | E5: =C5/100*D5 -> 0.48 | G5: Test
L6: Total | M6: =0.7*M4+0.3*M3 -> 0.922

Sheet Q3
B2: Formative Grades | G2: Summative Grades | L2: Calculated Totals
B3: Assignment Name | C3: Grade you got | D3: Points | E3: Points Earned | G3: Assignment Name | H3: Grade you got | I3: Points | J3: Points Earned | L3: Formative | M3: =SUM(E:E)/SUM(D:D) -> 0.376
B4: quiz | C4: 100 | D4: 1 | E4: =C4/100*D4 -> 1 | G4: Final Draft | H4: 100 | I4: 100 | J4: =H4/100*I4 -> 100 | L4: Summative | M4: =SUM(J4:J7)/SUM(I4:I7) -> 1
B5: something | C5: 88 | D5: 1 | E5: =C5/100*D5 -> 0.88 | G5: Test
B6: something_else | C6: 33 | D6: 3 | L6: Total | M6: =0.7*M4+0.3*M3 -> 0.8128

Sheet grade_table
B2: Low | C2: High(exclusive) | D2: Letter
B3: 0 | C3: 59.5 | D3: E
B4: 59.5 | C4: 66.5 | D4: D | F4: Number | G4: Letter
B5: 66.5 | C5: 69.5 | D5: D+ | F5: 100 | G5: =VLOOKUP(F5,B3:D10,3,1) -> A
B6: 69.5 | C6: 76.5 | D6: C
B7: 76.5 | C7: 79.5 | D7: C+
B8: 79.5 | C8: 86.5 | D8: B
B9: 86.5 | C9: 89.5 | D9: B+
B10: 89.5 | C10: 100 | D10: A

Sheet qp_table
B2: Letter Grade | C2: QP | D2: e | E2: Letter | F2: QP
B3: A | C3: 4 | E3: D | F3: =VLOOKUP(E3,B3:C10,2,0) -> 1
B4: B+ | C4: 3.5
B5: B | C5: 3
B6: C+ | C6: 2.5
B7: C | C7: 2
B8: D+ | C8: 1.5
B9: D | C9: 1
B10: E | C10: 0

Sheet qp_grade_table
B2: qp_low | C2: letter_grade
B3: 0 | C3: E
B4: 0.75 | C4: D | F4: QP | G4: Letter
B5: 1.25 | C5: D+ | F5: 0.5 | G5: =VLOOKUP(F5,B3:C10,2,1) -> E
B6: 1.75 | C6: C
B7: 2.25 | C7: C+
B8: 2.75 | C8: B
B9: 3.25 | C9: B+ | E9: xlookup
B10: 3.75 | C10: A | E10: =_xlfn.XLOOKUP(Summary!D8,qp_table!B$3:B$10, qp_table!C$3:C$10) -> 3.5
E11: {=_xlfn.XLOOKUP(Summary!D9,qp_grade_table!C$3:C$10, qp_grade_table!B$3:C$10)} -> 3.25 | F11: B+
